BEGIN:VCALENDAR
VERSION:2.0
PRODID:-//www.plannedpethood.org//NONSGML kigkonsult.se iCalcreator 2.30.10
 //
CALSCALE:GREGORIAN
METHOD:PUBLISH
UID:f97515a0-f779-4fae-af1b-04874fd73417
X-WR-CALDESC:
X-WR-RELCALID:287200b7bbd508be2f890e51db0280b2
X-WR-TIMEZONE:America/New_York
BEGIN:VTIMEZONE
TZID:America/New_York
BEGIN:STANDARD
TZNAME:EST
DTSTART:20191103T020000
TZOFFSETFROM:-0400
TZOFFSETTO:-0500
RDATE:20201101T020000
END:STANDARD
BEGIN:DAYLIGHT
TZNAME:EDT
DTSTART:20190310T020000
TZOFFSETFROM:-0500
TZOFFSETTO:-0400
RDATE:20200308T020000
RDATE:20210314T020000
END:DAYLIGHT
END:VTIMEZONE
BEGIN:VEVENT
UID:9e9af62f-3a26-41cf-9a59-6d18b60791d8
DTSTAMP:20260422T204521Z
DESCRIPTION:
DTSTART;TZID=America/New_York:20191109T110000
DTEND;TZID=America/New_York:20191109T140000
LOCATION:Petco\, Toledo
SUMMARY:Dog Adoption Event
END:VEVENT
END:VCALENDAR
