BEGIN:VCALENDAR
VERSION:2.0
PRODID:-//www.plannedpethood.org//NONSGML kigkonsult.se iCalcreator 2.30.10
 //
CALSCALE:GREGORIAN
METHOD:PUBLISH
UID:094a4d0b-c9fe-42c5-92ea-a4f6599552e2
X-WR-CALDESC:
X-WR-RELCALID:b13146d10bb6c209af46a9aebaba5b6e
X-WR-TIMEZONE:America/New_York
BEGIN:VTIMEZONE
TZID:America/New_York
BEGIN:STANDARD
TZNAME:EST
DTSTART:20231105T020000
TZOFFSETFROM:-0400
TZOFFSETTO:-0500
RDATE:20241103T020000
RDATE:20251102T020000
END:STANDARD
BEGIN:DAYLIGHT
TZNAME:EDT
DTSTART:20240310T020000
TZOFFSETFROM:-0500
TZOFFSETTO:-0400
RDATE:20250309T020000
END:DAYLIGHT
END:VTIMEZONE
BEGIN:VEVENT
UID:04e2ff73-a491-4b8b-8997-64d0d17c1cca
DTSTAMP:20260425T160830Z
DESCRIPTION:
DTSTART;TZID=America/New_York:20240629T120000
DTEND;TZID=America/New_York:20240629T140000
LOCATION:Hollywood Feed\, Holland
SUMMARY:Dog Adoption Event
END:VEVENT
END:VCALENDAR
