BEGIN:VCALENDAR
VERSION:2.0
PRODID:-//www.plannedpethood.org//NONSGML kigkonsult.se iCalcreator 2.30.10
 //
CALSCALE:GREGORIAN
METHOD:PUBLISH
UID:db4392d3-23df-49ac-92c1-9b2a02524781
X-WR-CALDESC:
X-WR-RELCALID:51b0ff70d7c669bb764d45e848fd696f
X-WR-TIMEZONE:America/New_York
BEGIN:VTIMEZONE
TZID:America/New_York
BEGIN:STANDARD
TZNAME:EST
DTSTART:20241103T020000
TZOFFSETFROM:-0400
TZOFFSETTO:-0500
RDATE:20251102T020000
END:STANDARD
BEGIN:DAYLIGHT
TZNAME:EDT
DTSTART:20240310T020000
TZOFFSETFROM:-0500
TZOFFSETTO:-0400
RDATE:20250309T020000
RDATE:20260308T020000
END:DAYLIGHT
END:VTIMEZONE
BEGIN:VEVENT
UID:0077cce8-8f5e-47be-b558-c07669c692d9
DTSTAMP:20260425T171517Z
DESCRIPTION:
DTSTART;TZID=America/New_York:20250208T120000
DTEND;TZID=America/New_York:20250208T140000
LOCATION:Hollywood Feed\, Holland
SUMMARY:Dog Adoption Event
END:VEVENT
END:VCALENDAR
