BEGIN:VCALENDAR
VERSION:2.0
PRODID:-//www.plannedpethood.org//NONSGML kigkonsult.se iCalcreator 2.30.10
 //
CALSCALE:GREGORIAN
METHOD:PUBLISH
UID:f99ad9b6-19b3-4ca3-9f6f-14beb4d9554b
X-WR-CALDESC:
X-WR-RELCALID:56f3b9d41d8d0acfaad9ec18718f5d44
X-WR-TIMEZONE:America/New_York
BEGIN:VTIMEZONE
TZID:America/New_York
BEGIN:STANDARD
TZNAME:EST
DTSTART:20251102T020000
TZOFFSETFROM:-0400
TZOFFSETTO:-0500
RDATE:20261101T020000
RDATE:20271107T020000
END:STANDARD
BEGIN:DAYLIGHT
TZNAME:EDT
DTSTART:20260308T020000
TZOFFSETFROM:-0500
TZOFFSETTO:-0400
RDATE:20270314T020000
END:DAYLIGHT
END:VTIMEZONE
BEGIN:VEVENT
UID:59d6737c-2c20-44e4-bc58-866239470e80
DTSTAMP:20260420T122717Z
DESCRIPTION:
DTSTART;TZID=America/New_York:20260516T120000
DTEND;TZID=America/New_York:20260516T140000
LOCATION:Pet Supplies Plus\, Sylvania (3140 Percentum Rd.\, Toledo\, OH 436
 17)
SUMMARY:Dog Adoption Event
END:VEVENT
END:VCALENDAR
